BEGIN:VCALENDAR
VERSION:2.0
PRODID:-//Rollettmuseum Baden - ECPv6.15.20//NONSGML v1.0//EN
CALSCALE:GREGORIAN
METHOD:PUBLISH
X-WR-CALNAME:Rollettmuseum Baden
X-ORIGINAL-URL:https://rollettmuseum.at
X-WR-CALDESC:Veranstaltungen für Rollettmuseum Baden
REFRESH-INTERVAL;VALUE=DURATION:PT1H
X-Robots-Tag:noindex
X-PUBLISHED-TTL:PT1H
BEGIN:VTIMEZONE
TZID:Europe/Vienna
BEGIN:DAYLIGHT
TZOFFSETFROM:+0100
TZOFFSETTO:+0200
TZNAME:CEST
DTSTART:20200329T010000
END:DAYLIGHT
BEGIN:STANDARD
TZOFFSETFROM:+0200
TZOFFSETTO:+0100
TZNAME:CET
DTSTART:20201025T010000
END:STANDARD
BEGIN:DAYLIGHT
TZOFFSETFROM:+0100
TZOFFSETTO:+0200
TZNAME:CEST
DTSTART:20210328T010000
END:DAYLIGHT
BEGIN:STANDARD
TZOFFSETFROM:+0200
TZOFFSETTO:+0100
TZNAME:CET
DTSTART:20211031T010000
END:STANDARD
BEGIN:DAYLIGHT
TZOFFSETFROM:+0100
TZOFFSETTO:+0200
TZNAME:CEST
DTSTART:20220327T010000
END:DAYLIGHT
BEGIN:STANDARD
TZOFFSETFROM:+0200
TZOFFSETTO:+0100
TZNAME:CET
DTSTART:20221030T010000
END:STANDARD
END:VTIMEZONE
BEGIN:VEVENT
DTSTART;TZID=Europe/Vienna:20211002T180000
DTEND;TZID=Europe/Vienna:20211002T235900
DTSTAMP:20260423T024200
CREATED:20210826T064812Z
LAST-MODIFIED:20210826T065353Z
UID:2398-1633197600-1633219140@rollettmuseum.at
SUMMARY:LANGE NACHT DER MUSEEN - Baden und die Kur\, Bekanntes und Unbekanntes
DESCRIPTION:Viele Persönlichkeiten machten in Baden Station\, um die Schwefelquellen und das Angebot zu nützen. Stationen für Groß und Klein erzählen davon. \nEinfach kommen und mitmachen. Von 18.00 – 24.00 Uhr!\nRegionalticket: € 6\,- (Kinder bis 12 haben freien Eintritt) im Rollettmuseum erhältlich.\nWeitere Infos unter: Lange Nacht der Museen\nNützen Sie auch den Shuttle-Service\, der Sie von einem Badener Museum zum nächsten bringt. \nAls ältestes Museum Niederösterreichs birgt das Museum eine besondere Sammlung rund um die Stadt Baden ausgehend von der Sammlung des Badener Arztes\, Schriftstellers\, Naturforschers und Kunstfreundes Anton Rollett. Groß und Klein finden hier ihr Lieblingsstück: eine echte Mumie\, Fundstücke aus der Römerzeit\, ein Stadtmodell um 1550\, Kunstwerke der Biedermeierzeit\, Anekdotisches zu Kur und Weinbau sowie Raritäten aus allen Epochen.
URL:https://rollettmuseum.at/veranstaltung/lange-nacht-der-museen-baden-und-die-kur-bekanntes-und-unbekanntes/
LOCATION:Rollettmuseum Baden\, Weikersdorferplatz 1\, Baden\, Niederösterreich\, 2500\, Österreich
ATTACH;FMTTYPE=image/jpeg:https://rollettmuseum.at/wp-content/uploads/2021/08/Lange-Nacht-der-Museen.jpg
END:VEVENT
END:VCALENDAR