BEGIN:VCALENDAR
VERSION:2.0
PRODID:-//Rollettmuseum Baden - ECPv6.15.20//NONSGML v1.0//EN
CALSCALE:GREGORIAN
METHOD:PUBLISH
X-ORIGINAL-URL:https://rollettmuseum.at
X-WR-CALDESC:Veranstaltungen für Rollettmuseum Baden
REFRESH-INTERVAL;VALUE=DURATION:PT1H
X-Robots-Tag:noindex
X-PUBLISHED-TTL:PT1H
BEGIN:VTIMEZONE
TZID:Europe/Vienna
BEGIN:DAYLIGHT
TZOFFSETFROM:+0100
TZOFFSETTO:+0200
TZNAME:CEST
DTSTART:20230326T010000
END:DAYLIGHT
BEGIN:STANDARD
TZOFFSETFROM:+0200
TZOFFSETTO:+0100
TZNAME:CET
DTSTART:20231029T010000
END:STANDARD
BEGIN:DAYLIGHT
TZOFFSETFROM:+0100
TZOFFSETTO:+0200
TZNAME:CEST
DTSTART:20240331T010000
END:DAYLIGHT
BEGIN:STANDARD
TZOFFSETFROM:+0200
TZOFFSETTO:+0100
TZNAME:CET
DTSTART:20241027T010000
END:STANDARD
BEGIN:DAYLIGHT
TZOFFSETFROM:+0100
TZOFFSETTO:+0200
TZNAME:CEST
DTSTART:20250330T010000
END:DAYLIGHT
BEGIN:STANDARD
TZOFFSETFROM:+0200
TZOFFSETTO:+0100
TZNAME:CET
DTSTART:20251026T010000
END:STANDARD
END:VTIMEZONE
BEGIN:VEVENT
DTSTART;TZID=Europe/Vienna:20240410T190000
DTEND;TZID=Europe/Vienna:20240410T200000
DTSTAMP:20260425T213254
CREATED:20240131T084034Z
LAST-MODIFIED:20240328T113127Z
UID:3747-1712775600-1712779200@rollettmuseum.at
SUMMARY:Zeitlos schön!  Anton Rolletts Technologiesammlung und die biedermeierlichen Papiertapeten von Spörlin & Rahn - Vortrag von Ilse Mühlbacher
DESCRIPTION:Die Buchrestauratorin und Spezialistin für Buntpapier\, MMag. Ilse Mühlbacher\, gibt einen Einblick in einen besonderen Schatz. Anton Rollett\, Arzt und Museumsgründer\, legte Anfang des 19. Jahrhunderts eine einmalige Sammlung an. Technologische Produkte – Stoff- und Papiermuster\, Halbfabrikate\, Posamentier- und Stroharbeiten\, u.ä\,- wurden von ihm auf Kartontafeln montiert und meist mit Namen des Herstellers und Erzeugungsdatum versehen. Heute bieten diese Tableaux\, die nur selten ans Licht geholt werden\, einen besonderen Wissensschatz\, ähnlich dem k.k. Fabriksprodukten-Kabinett im Technischen Museum Wien. \nIlse Mühlbacher berichtet über den Tapeten- und Buntpapiererzeuger in Wien Michael Spörlin (1809 – 1896) und ihre Entdeckungen\, die sie dazu im Rollettmuseum gemacht hat. Als besonderer Höhepunkt werden an diesem Abend auch zahlreiche Tableaux im Original zu sehen sein: ein unglaublicher Formen- und Farbenreichtum\, der bei vielen Beispielen auch überraschend modern wirkt. \nEintritt: € 7\,-\nAnmeldung erforderlich: 02252 86800-580 / museum@baden.gv.at
URL:https://rollettmuseum.at/veranstaltung/zeitlos-schoen-anton-rolletts-technologiesammlung-und-die-biedermeierlichen-papiertapeten-von-spoerlin-rahn-vortrag-von-mmag-ilse-muehlbacher/
ATTACH;FMTTYPE=image/jpeg:https://rollettmuseum.at/wp-content/uploads/2024/01/Blumentapete-scaled.jpg
END:VEVENT
END:VCALENDAR