BEGIN:VCALENDAR
VERSION:2.0
PRODID:-//Rollettmuseum Baden - ECPv6.15.20//NONSGML v1.0//EN
CALSCALE:GREGORIAN
METHOD:PUBLISH
X-ORIGINAL-URL:https://rollettmuseum.at
X-WR-CALDESC:Veranstaltungen für Rollettmuseum Baden
REFRESH-INTERVAL;VALUE=DURATION:PT1H
X-Robots-Tag:noindex
X-PUBLISHED-TTL:PT1H
BEGIN:VTIMEZONE
TZID:Europe/Vienna
BEGIN:DAYLIGHT
TZOFFSETFROM:+0100
TZOFFSETTO:+0200
TZNAME:CEST
DTSTART:20220327T010000
END:DAYLIGHT
BEGIN:STANDARD
TZOFFSETFROM:+0200
TZOFFSETTO:+0100
TZNAME:CET
DTSTART:20221030T010000
END:STANDARD
BEGIN:DAYLIGHT
TZOFFSETFROM:+0100
TZOFFSETTO:+0200
TZNAME:CEST
DTSTART:20230326T010000
END:DAYLIGHT
BEGIN:STANDARD
TZOFFSETFROM:+0200
TZOFFSETTO:+0100
TZNAME:CET
DTSTART:20231029T010000
END:STANDARD
BEGIN:DAYLIGHT
TZOFFSETFROM:+0100
TZOFFSETTO:+0200
TZNAME:CEST
DTSTART:20240331T010000
END:DAYLIGHT
BEGIN:STANDARD
TZOFFSETFROM:+0200
TZOFFSETTO:+0100
TZNAME:CET
DTSTART:20241027T010000
END:STANDARD
END:VTIMEZONE
BEGIN:VEVENT
DTSTART;TZID=Europe/Vienna:20231216T150000
DTEND;TZID=Europe/Vienna:20231216T160000
DTSTAMP:20260425T131533
CREATED:20231002T091917Z
LAST-MODIFIED:20241007T064134Z
UID:3587-1702738800-1702742400@rollettmuseum.at
SUMMARY:Kinder Advent
DESCRIPTION:Adventliche Kinderführung im Rollettmuseum\nWir begeben uns auf eine weihnachtliche Spurensuche quer durch die Geschichte: Haben Kinder immer schon Weihnachtsgeschenke bekommen? Wie war das mit den Christbäumen und Baden? Und was haben denn schon wieder die Römer damit zu tun? Wer die Antworten auf diese Fragen finden will\, ist herzlich willkommen bei der Adventkinderführung im Rollettmuseum! \nEintritt und Führung: € 5\,-\nFür Kinder von 6-11 Jahren.\nUm Anmeldung wird gebeten: Tel: 02252/86 800-580 / museum@baden.gv.at
URL:https://rollettmuseum.at/veranstaltung/kinder-advent/
ATTACH;FMTTYPE=image/jpeg:https://rollettmuseum.at/wp-content/uploads/2023/10/alte-Weihnachtskarte-©Rollettmuseum.jpg
END:VEVENT
END:VCALENDAR