BEGIN:VCALENDAR
VERSION:2.0
PRODID:-//Rollettmuseum Baden - ECPv6.15.20//NONSGML v1.0//EN
CALSCALE:GREGORIAN
METHOD:PUBLISH
X-ORIGINAL-URL:https://rollettmuseum.at
X-WR-CALDESC:Veranstaltungen für Rollettmuseum Baden
REFRESH-INTERVAL;VALUE=DURATION:PT1H
X-Robots-Tag:noindex
X-PUBLISHED-TTL:PT1H
BEGIN:VTIMEZONE
TZID:Europe/Vienna
BEGIN:DAYLIGHT
TZOFFSETFROM:+0100
TZOFFSETTO:+0200
TZNAME:CEST
DTSTART:20230326T010000
END:DAYLIGHT
BEGIN:STANDARD
TZOFFSETFROM:+0200
TZOFFSETTO:+0100
TZNAME:CET
DTSTART:20231029T010000
END:STANDARD
BEGIN:DAYLIGHT
TZOFFSETFROM:+0100
TZOFFSETTO:+0200
TZNAME:CEST
DTSTART:20240331T010000
END:DAYLIGHT
BEGIN:STANDARD
TZOFFSETFROM:+0200
TZOFFSETTO:+0100
TZNAME:CET
DTSTART:20241027T010000
END:STANDARD
BEGIN:DAYLIGHT
TZOFFSETFROM:+0100
TZOFFSETTO:+0200
TZNAME:CEST
DTSTART:20250330T010000
END:DAYLIGHT
BEGIN:STANDARD
TZOFFSETFROM:+0200
TZOFFSETTO:+0100
TZNAME:CET
DTSTART:20251026T010000
END:STANDARD
END:VTIMEZONE
BEGIN:VEVENT
DTSTART;TZID=Europe/Vienna:20240306T090000
DTEND;TZID=Europe/Vienna:20240306T150000
DTSTAMP:20260425T183133
CREATED:20231204T100715Z
LAST-MODIFIED:20231204T101331Z
UID:3658-1709715600-1709737200@rollettmuseum.at
SUMMARY:Zum Aktionstag SCHULE SCHAUT MUSEUM - Interaktive Sonderführung "Schriftproben"
DESCRIPTION:Interaktive Führung zum Aktionstag SCHULE SCHAUT MUSEUM mit angeleiteten Übungen – Eintritt und Programm frei!\nHast du heute schon geschrieben? Bestimmt! Am Handy? Mit der Hand? In Blockbuchstaben oder Schönschrift?\nEine bekannte Redewendung heißt „Geschichte wird geschrieben“. Aber von wem eigentlich? Bis vor 250 Jahren konnten kaum Menschen lesen oder schreiben!\nAnhand von historischen Originalen lernen wir unterschiedliche Schriften aus fünf Jahrhunderten kennen. In Kleingruppen nehmen wir die alten Schriftproben unter die Lupe und erproben uns im Entziffern und Rekonstruieren. Wofür waren die Schriftstücke gedacht? Warum wurde genau diese Schriftart gewählt? Und was bedeutet(e) es\, nicht lesen oder schreiben zu können? \nBeginnzeiten: 9.00 / 11.00 / 13.00 Uhr\nDauer: ca. 90 Minuten\nAlter: 9-16 Jahre\nTeilnahme-Begrenzung: 1 Klasse pro Führung\nAnmeldung: klassenweise Anmeldung erforderlich (bitte um Anmeldung von Schulstufe\, Schulform\, Kontaktperson für Rückfragen): 02252 86800/580 oder museum@baden.gv.at\nEintritt und Führung frei!
URL:https://rollettmuseum.at/veranstaltung/zum-aktionstag-schule-schaut-museum-interaktive-sonderfuehrung-schriftproben/
ATTACH;FMTTYPE=image/jpeg:https://rollettmuseum.at/wp-content/uploads/2023/12/Fragment-1a.jpg
END:VEVENT
END:VCALENDAR