BEGIN:VCALENDAR
VERSION:2.0
PRODID:-//Rollettmuseum Baden - ECPv6.15.20//NONSGML v1.0//EN
CALSCALE:GREGORIAN
METHOD:PUBLISH
X-ORIGINAL-URL:https://rollettmuseum.at
X-WR-CALDESC:Veranstaltungen für Rollettmuseum Baden
REFRESH-INTERVAL;VALUE=DURATION:PT1H
X-Robots-Tag:noindex
X-PUBLISHED-TTL:PT1H
BEGIN:VTIMEZONE
TZID:Europe/Vienna
BEGIN:DAYLIGHT
TZOFFSETFROM:+0100
TZOFFSETTO:+0200
TZNAME:CEST
DTSTART:20250330T010000
END:DAYLIGHT
BEGIN:STANDARD
TZOFFSETFROM:+0200
TZOFFSETTO:+0100
TZNAME:CET
DTSTART:20251026T010000
END:STANDARD
BEGIN:DAYLIGHT
TZOFFSETFROM:+0100
TZOFFSETTO:+0200
TZNAME:CEST
DTSTART:20260329T010000
END:DAYLIGHT
BEGIN:STANDARD
TZOFFSETFROM:+0200
TZOFFSETTO:+0100
TZNAME:CET
DTSTART:20261025T010000
END:STANDARD
BEGIN:DAYLIGHT
TZOFFSETFROM:+0100
TZOFFSETTO:+0200
TZNAME:CEST
DTSTART:20270328T010000
END:DAYLIGHT
BEGIN:STANDARD
TZOFFSETFROM:+0200
TZOFFSETTO:+0100
TZNAME:CET
DTSTART:20271031T010000
END:STANDARD
END:VTIMEZONE
BEGIN:VEVENT
DTSTART;TZID=Europe/Vienna:20260304T090000
DTEND;TZID=Europe/Vienna:20260304T150000
DTSTAMP:20260422T180301
CREATED:20211207T093935Z
LAST-MODIFIED:20251209T113048Z
UID:2432-1772614800-1772636400@rollettmuseum.at
SUMMARY:Schule schaut Museum - Aktionstag für Schulen am 4. März 2026. Zwei verschiedene Vermittlungsprogramme für 10-18 Jährige!
DESCRIPTION:„Mode – Macht – Gesellschaft. Was man am Körper trägt“\nDialogorientierter Rundgang mit Originalobjekten aus dem Textilfundus.\nAlter: 10 – 18 Jahre – Eintritt und Programm am Aktionstag „Schule schaut Museum“ am 4. März frei!\nWie lange ist es her\, dass du zuletzt in einen Spiegel geschaut hast?\nDas Pflegen und Kultivieren des Körpers beschäftigt die meisten von uns täglich: Kleidung auswählen\, anziehen\, ausziehen\, kämmen\, duschen\, schminken\, rasieren oder parfümieren. Schon in früheren Zeiten waren Mode und Haare wichtige Mittel des Selbstausdrucks. Ganz ohne Worte konnten sie viel über ihre Träger*innen erzählen. Ausgehend vom Alltag und den persönlichen Erfahrungen der Schüler*innen wollen wir erkunden\, wie sich die Beziehung zu Mode und Körper verändert hat und inwieweit alte Denkmuster noch heute präsent sind. \n„SCHRIFTPROBEN“\nInteraktive Führung mit angeleiteten Übungen\nAlter: 10 –16 Jahre – Eintritt und Programm am Aktionstag „Schule schaut Museum“ am 4. März frei!\nHast du heute schon geschrieben? Bestimmt! Am Handy? Mit der Hand? In Blockbuchstaben oder Schönschrift?\nEine bekannte Redewendung heißt „Geschichte wird geschrieben“. Aber von wem eigentlich? Bis vor 250 Jahren konnten kaum Menschen lesen oder schreiben!\nAnhand von historischen Originalen lernen wir unterschiedliche Schriften aus fünf Jahrhunderten kennen. In Kleingruppen nehmen wir die alten Schriftproben unter die Lupe und erproben uns im Entziffern und Rekonstruieren. Wofür waren die Schriftstücke gedacht? Warum wurde genau diese Schriftart gewählt? Und was bedeutet(e) es\, nicht lesen oder schreiben zu können? \nEckdaten:\nBeginnzeiten: 9.00 | 11.00 | 13.00\nDauer: ca. 90 Minuten\nTeilnahme-Begrenzung: 1 Klasse pro Führung\nAnmeldung: klassenweise Anmeldung erforderlich (bitte um Angabe von Schulstufe\, Schulform\, Kontaktperson für Rückfragen): 02252/86800-580 oder museum@baden.gv.at.\nEintritt und Programm frei! \nRollettmuseum Baden\, Weikersdorfer Platz 1\, 2500 Baden\, www.rollettmuseum.at
URL:https://rollettmuseum.at/veranstaltung/schule-schaut-museum-aktionstag-fuer-schulen-vermittlungsprogramm-fuer-10-18-jaehrige/
LOCATION:Rollettmuseum Baden\, Weikersdorferplatz 1\, Baden\, Niederösterreich\, 2500\, Österreich
ATTACH;FMTTYPE=image/jpeg:https://rollettmuseum.at/wp-content/uploads/2021/12/Was-man-am-Koerper-traegt-scaled.jpg
END:VEVENT
END:VCALENDAR