BEGIN:VCALENDAR
VERSION:2.0
PRODID:-//Rollettmuseum Baden - ECPv6.15.20//NONSGML v1.0//EN
CALSCALE:GREGORIAN
METHOD:PUBLISH
X-ORIGINAL-URL:https://rollettmuseum.at
X-WR-CALDESC:Veranstaltungen für Rollettmuseum Baden
REFRESH-INTERVAL;VALUE=DURATION:PT1H
X-Robots-Tag:noindex
X-PUBLISHED-TTL:PT1H
BEGIN:VTIMEZONE
TZID:Europe/Vienna
BEGIN:DAYLIGHT
TZOFFSETFROM:+0100
TZOFFSETTO:+0200
TZNAME:CEST
DTSTART:20250330T010000
END:DAYLIGHT
BEGIN:STANDARD
TZOFFSETFROM:+0200
TZOFFSETTO:+0100
TZNAME:CET
DTSTART:20251026T010000
END:STANDARD
BEGIN:DAYLIGHT
TZOFFSETFROM:+0100
TZOFFSETTO:+0200
TZNAME:CEST
DTSTART:20260329T010000
END:DAYLIGHT
BEGIN:STANDARD
TZOFFSETFROM:+0200
TZOFFSETTO:+0100
TZNAME:CET
DTSTART:20261025T010000
END:STANDARD
BEGIN:DAYLIGHT
TZOFFSETFROM:+0100
TZOFFSETTO:+0200
TZNAME:CEST
DTSTART:20270328T010000
END:DAYLIGHT
BEGIN:STANDARD
TZOFFSETFROM:+0200
TZOFFSETTO:+0100
TZNAME:CET
DTSTART:20271031T010000
END:STANDARD
END:VTIMEZONE
BEGIN:VEVENT
DTSTART;TZID=Europe/Vienna:20260501T150000
DTEND;TZID=Europe/Vienna:20260930T180000
DTSTAMP:20260422T180251
CREATED:20260211T092346Z
LAST-MODIFIED:20260211T093534Z
UID:4505-1777647600-1790791200@rollettmuseum.at
SUMMARY:Sonderschau "100 Jahre Strandbad"
DESCRIPTION:Wie kam es überhaupt zum Bau des Badener Strandbades? Welche Persönlichkeiten standen hinter dem Projekt? Welche Voraussetzungen mussten erfüllt werden – und was steckt hinter den legendären 80 Tagen Bauzeit? Wie wurde das Strandbad seinerzeit beworben und wann erfolgten die ersten baulichen Erneuerungen? Fragen über Fragen … \nBaupläne\, historische Akten und Fotografien eröffnen faszinierende Einblicke in die Geschichte dieses beliebten Ortes. Ergänzt durch Filmaufnahmen und Objekte erzählt die Ausstellung von der Entwicklung und dem anhaltenden Erfolg des Badener Strandbades – von seinen Anfängen bis in die Gegenwart.\nIm Rahmen des Museumsbesuch zu besichtigen. Täglich außer Dienstag\, 15-18 Uhr!
URL:https://rollettmuseum.at/veranstaltung/sonderschau-100-jahre-strandbad/
ATTACH;FMTTYPE=image/jpeg:https://rollettmuseum.at/wp-content/uploads/2026/02/Web-Strandbad.jpg
END:VEVENT
BEGIN:VEVENT
DTSTART;TZID=Europe/Vienna:20260503T153000
DTEND;TZID=Europe/Vienna:20260503T163000
DTSTAMP:20260422T180251
CREATED:20251118T090801Z
LAST-MODIFIED:20260422T130623Z
UID:4433-1777822200-1777825800@rollettmuseum.at
SUMMARY:Zeit zu erkunden - Führung durch das Rollettmuseum. Stadtgeschichte Badens!
DESCRIPTION:Jeden 1. Sonntag im Monat um 15.30 Uhr!\nNächste Termine: 3. Mai\, 7. Juni\, 5. Juli …. \nBadener Biedermeierflair und ägyptische Mumie\, nebeneinander..? Hier gibt es nichts\, was es nicht gibt! Erkunden Sie das älteste Museum Niederösterreichs – das Rollettmuseum!  Unsere Führung nimmt Sie mit auf eine rasante Zeitreise durch die Geschichte(n) Badens von der Jungsteinzeit bis ins 20. Jahrhundert. Auch die originale Sammlung des Museumsgründers Anton Rollett und die berühmte Gall’sche Schädelsammlung dürfen nicht fehlen. Interessante Fakten und kuriose Objekte erwarten Sie! \nFührungsticket (zuzüglich Eintritt): € 5\,-\nWir bitten um Reservierung unter 02252 86800/580 / museum@baden.gv.at
URL:https://rollettmuseum.at/veranstaltung/zeit-zu-erkunden-fuehrung-durch-das-rollettmuseum-stadtgeschichte-badens/
ATTACH;FMTTYPE=image/jpeg:https://rollettmuseum.at/wp-content/uploads/2019/10/20191005_224333.jpg
END:VEVENT
BEGIN:VEVENT
DTSTART;TZID=Europe/Vienna:20260506T190000
DTEND;TZID=Europe/Vienna:20260506T200000
DTSTAMP:20260422T180251
CREATED:20260212T073811Z
LAST-MODIFIED:20260212T074946Z
UID:4511-1778094000-1778097600@rollettmuseum.at
SUMMARY:"Im Schatten der Kurstadt - Frauen zwischen Sichtbarkeit und Vergessen" - Vortrag von Beate Jorda und Astrid Berger
DESCRIPTION:Im Jahr 2025 ist das sorgfältig recherchierte Buch Pionierinnen und Visionärinnen von Beate Jorda und Astrid Berger erschienen. Die Autorinnen möchten zeigen\, dass es in Baden schon immer großartige Frauen gegeben hat – viele davon sind bislang wenig bekannt oder in Vergessenheit geraten. Für ihr Buch haben sie unter anderem im Stadtarchiv intensiv geforscht und zahlreiche Archivalien und Abbildungen ausgewertet. \nIn diesem Vortrag präsentieren Beate Jorda und Astrid Berger ausgewählte Unterlagen aus dem Stadtarchiv und stellen beeindruckende Badenerinnen in den Mittelpunkt\, die bisher im Schatten standen. Außerdem wird das Buch bereits in der zweiten Auflage erhältlich sein. \nEintritt: € 7\,-\nReservierung erbeten unter 02252 86800-580 / museum@baden.gv.at
URL:https://rollettmuseum.at/veranstaltung/im-schatten-der-kurstadt-frauen-zwischen-sichtbarkeit-und-vergessen-vortrag-von-beate-jorda-und-astrid-berger/
ATTACH;FMTTYPE=image/jpeg:https://rollettmuseum.at/wp-content/uploads/2026/02/Jorda.jpg
END:VEVENT
END:VCALENDAR