BEGIN:VCALENDAR
VERSION:2.0
PRODID:-//Rollettmuseum Baden - ECPv6.15.20//NONSGML v1.0//EN
CALSCALE:GREGORIAN
METHOD:PUBLISH
X-WR-CALNAME:Rollettmuseum Baden
X-ORIGINAL-URL:https://rollettmuseum.at
X-WR-CALDESC:Veranstaltungen für Rollettmuseum Baden
REFRESH-INTERVAL;VALUE=DURATION:PT1H
X-Robots-Tag:noindex
X-PUBLISHED-TTL:PT1H
BEGIN:VTIMEZONE
TZID:Europe/Vienna
BEGIN:DAYLIGHT
TZOFFSETFROM:+0100
TZOFFSETTO:+0200
TZNAME:CEST
DTSTART:20250330T010000
END:DAYLIGHT
BEGIN:STANDARD
TZOFFSETFROM:+0200
TZOFFSETTO:+0100
TZNAME:CET
DTSTART:20251026T010000
END:STANDARD
BEGIN:DAYLIGHT
TZOFFSETFROM:+0100
TZOFFSETTO:+0200
TZNAME:CEST
DTSTART:20260329T010000
END:DAYLIGHT
BEGIN:STANDARD
TZOFFSETFROM:+0200
TZOFFSETTO:+0100
TZNAME:CET
DTSTART:20261025T010000
END:STANDARD
BEGIN:DAYLIGHT
TZOFFSETFROM:+0100
TZOFFSETTO:+0200
TZNAME:CEST
DTSTART:20270328T010000
END:DAYLIGHT
BEGIN:STANDARD
TZOFFSETFROM:+0200
TZOFFSETTO:+0100
TZNAME:CET
DTSTART:20271031T010000
END:STANDARD
END:VTIMEZONE
BEGIN:VEVENT
DTSTART;TZID=Europe/Vienna:20260501T150000
DTEND;TZID=Europe/Vienna:20260930T180000
DTSTAMP:20260422T194513
CREATED:20260211T092346Z
LAST-MODIFIED:20260211T093534Z
UID:4505-1777647600-1790791200@rollettmuseum.at
SUMMARY:Sonderschau "100 Jahre Strandbad"
DESCRIPTION:Wie kam es überhaupt zum Bau des Badener Strandbades? Welche Persönlichkeiten standen hinter dem Projekt? Welche Voraussetzungen mussten erfüllt werden – und was steckt hinter den legendären 80 Tagen Bauzeit? Wie wurde das Strandbad seinerzeit beworben und wann erfolgten die ersten baulichen Erneuerungen? Fragen über Fragen … \nBaupläne\, historische Akten und Fotografien eröffnen faszinierende Einblicke in die Geschichte dieses beliebten Ortes. Ergänzt durch Filmaufnahmen und Objekte erzählt die Ausstellung von der Entwicklung und dem anhaltenden Erfolg des Badener Strandbades – von seinen Anfängen bis in die Gegenwart.\nIm Rahmen des Museumsbesuch zu besichtigen. Täglich außer Dienstag\, 15-18 Uhr!
URL:https://rollettmuseum.at/veranstaltung/sonderschau-100-jahre-strandbad/
ATTACH;FMTTYPE=image/jpeg:https://rollettmuseum.at/wp-content/uploads/2026/02/Web-Strandbad.jpg
END:VEVENT
BEGIN:VEVENT
DTSTART;TZID=Europe/Vienna:20260619T100000
DTEND;TZID=Europe/Vienna:20260619T160000
DTSTAMP:20260422T194513
CREATED:20260408T094913Z
LAST-MODIFIED:20260408T094913Z
UID:4549-1781863200-1781884800@rollettmuseum.at
SUMMARY:AUSGEBUCHT! "Unlesbar? Von wegen!" - Kurrentschrift entziffern im Stadtarchiv. Zum internationalen Tag der Archive. Schnupperkurs um 10-12 Uhr oder 14-16 Uhr - Copy
DESCRIPTION:Stadtarchiv Baden/Rollettmuseum\nFreitag\, 19. Juni 2026\n10-12 Uhr / 14-16 Uhr\n„Unlesbar? Von wegen!“. Kurrentschrift entziffern im Stadtarchiv Baden \nSie sehen nur Schnörkel\, Haken und kryptische Buchstaben? Keine Sorge – genau darum geht’s! Dieser Kurs lädt dazu ein\, genauer hinzusehen. Gemeinsam entschlüsseln wir Briefe\, Tagebücher und Protokollbücher aus dem Archiv und machen aus scheinbar unleserlichen Zeichen verständliche Texte. Ob Briefe\, Tagebücher oder alte Protokollbücher: Schritt für Schritt lernen Sie\, was hinter den geschwungenen Linien steckt. \nKosten € 10\,-\nMaximal 6 Personen pro Termin\nVerbindliche Anmeldung mit Terminbekanntgabe unter stadtarchiv@baden.gv.at / 02252 86800-580\nDer Schnupperkurs findet im Stadtarchiv Baden statt\, Eingang Weikersdorfer Platz 1
URL:https://rollettmuseum.at/veranstaltung/ausgebucht-unlesbar-von-wegen-kurrentschrift-entziffern-im-stadtarchiv-zum-internationalen-tag-der-archive-schnupperkurs-um-10-12-uhr-oder-14-16-uhr-copy/
ATTACH;FMTTYPE=image/jpeg:https://rollettmuseum.at/wp-content/uploads/2026/02/Presse-Tag-der-Archive.jpg
END:VEVENT
BEGIN:VEVENT
DTSTART;TZID=Europe/Vienna:20260626T100000
DTEND;TZID=Europe/Vienna:20260626T120000
DTSTAMP:20260422T194513
CREATED:20260212T075537Z
LAST-MODIFIED:20260408T094816Z
UID:4517-1782468000-1782475200@rollettmuseum.at
SUMMARY:"Unlesbar? Von wegen!" - Kurrentschrift entziffern im Stadtarchiv. Zum internationalen Tag der Archive. Schnupperkurs um 10-12 Uhr
DESCRIPTION:Stadtarchiv Baden/Rollettmuseum\n„Unlesbar? Von wegen!“. Kurrentschrift entziffern im Stadtarchiv Baden \nSie sehen nur Schnörkel\, Haken und kryptische Buchstaben? Keine Sorge – genau darum geht’s! Dieser Kurs lädt dazu ein\, genauer hinzusehen. Gemeinsam entschlüsseln wir Briefe\, Tagebücher und Protokollbücher aus dem Archiv und machen aus scheinbar unleserlichen Zeichen verständliche Texte. Ob Briefe\, Tagebücher oder alte Protokollbücher: Schritt für Schritt lernen Sie\, was hinter den geschwungenen Linien steckt. \nKosten € 10\,-\nMaximal 6 Personen pro Termin\nVerbindliche Anmeldung mit Terminbekanntgabe unter stadtarchiv@baden.gv.at / 02252 86800-580\nDer Schnupperkurs findet im Stadtarchiv Baden statt\, Eingang Weikersdorfer Platz 1
URL:https://rollettmuseum.at/veranstaltung/unlesbar-von-wegen-kurrentschrift-entziffern-im-stadtarchiv-zum-internationalen-tag-der-archive-schnupperkurs-um-10-12-uhr-und-14-16-uhr/
ATTACH;FMTTYPE=image/jpeg:https://rollettmuseum.at/wp-content/uploads/2026/02/Presse-Tag-der-Archive.jpg
END:VEVENT
END:VCALENDAR